BEGIN:VCALENDAR
VERSION:2.0
PRODID:-//Kinetic Fighting - ECPv6.8.1//NONSGML v1.0//EN
CALSCALE:GREGORIAN
METHOD:PUBLISH
X-WR-CALNAME:Kinetic Fighting
X-ORIGINAL-URL:https://kineticfighting.com.au
X-WR-CALDESC:Events for Kinetic Fighting
REFRESH-INTERVAL;VALUE=DURATION:PT1H
X-Robots-Tag:noindex
X-PUBLISHED-TTL:PT1H
BEGIN:VTIMEZONE
TZID:Australia/Brisbane
BEGIN:STANDARD
TZOFFSETFROM:+1000
TZOFFSETTO:+1000
TZNAME:AEST
DTSTART:20180101T000000
END:STANDARD
TZID:Australia/Melbourne
BEGIN:STANDARD
TZOFFSETFROM:+1100
TZOFFSETTO:+1000
TZNAME:AEST
DTSTART:20190406T160000
END:STANDARD
BEGIN:DAYLIGHT
TZOFFSETFROM:+1000
TZOFFSETTO:+1100
TZNAME:AEDT
DTSTART:20191005T160000
END:DAYLIGHT
END:VTIMEZONE
BEGIN:VEVENT
DTSTART;TZID=Australia/Brisbane:20190421T140000
DTEND;TZID=Australia/Brisbane:20190421T180000
DTSTAMP:20260420T041530
CREATED:20181230T202726Z
LAST-MODIFIED:20181230T202726Z
UID:10801-1555855200-1555869600@kineticfighting.com.au
SUMMARY:KINETIC FIGHTING: LEVEL 1-ALPHA COURSE – CANBERRA
DESCRIPTION:Learn the close-combat tactics used by Australian and U.S. Special Forces\nA veteran of multiple combat tours with the 2nd Commando Regiment\, former Sergeant Paul Cale literally rewrote the book on Special Forces Close-Quarter Fighting (CQF). Paul then created Infantry Integrated Combat (ICC)\, which later became the foundation for the Australian Army Combatives Program (ACP) — now the official close-combat training system for Australia’s general Army. \nKinetic Fighting is the culmination of all Paul’s work in combatives\, and the name used to describe the method underpinning his military programs. \nWhether you want to learn mental strategies and tactical applications to make your existing martial arts skills more effective\, or you want to take your first steps toward a KEF–IC black belt\, this course is for you. KEF–IC (Kinetic Fighting–Integrated Combat) is a new program within the Australian Army that combines tactical combative skills with free sparring/rolling and the competitive elements of the Integrated Combat Clubs\, which are located at Army barracks Australia-wide. \nAs an extension of the Australian Army Combatives program\, KEF–IC provides the training principles and core syllabus required to give soldiers a survival skill set\, and mindset to match. Every element of KEF–IC is focused toward real combat and it is now being taught to non-military personnel for the first time. \nOn this course Paul will teach you battle-proven principles and survival tactics that are:\n\nAdaptable to any martial art or professional operational procedure\nSuitable for civilians & front-line operators\, from beginners to professionals\nBacked by 25+ years of career military experience & 30+ years in martial arts\n\n\nDay 1 – Level 1-Alpha:\nFour hours of training in essential self-protection skills with Paul Cale\, creator of the Australian Army Combatives Program (ACP). \nIn this module you will cover the key aspects of surviving a violent confrontation: mindset\, tactics\, legal and moral considerations\, and functional\, high-percentage techniques. You will also discover how KEF–IC’s battlefield origins inform everything that you learn. \nPrerequisites: None – complete beginners welcome \nTime: Sunday 21st April 2:00am – 6:00pm \n  \nBOOK NOW & SAVE – Early-bird discounts apply until 1 March  \nBRING A FRIEND & SAVE – Buy two tickets or organise a group for even bigger savings \n* If you have previously completed any Kinetic Fighting module and would like to do a refresher\, contact info@kefgroup.com for special pricing. \n 
URL:https://kineticfighting.com.au/event/kinetic-fighting-level-1-alpha-course-canberra/
LOCATION:Australian Institute of Sport\, 26 Leverrier St\, Bruce\, ACT\, 2617\, Australia
ATTACH;FMTTYPE=image/jpeg:https://kineticfighting.com.au/wp-content/uploads/2018/12/LEVEL-1-ALPHA-BRAVO-1.jpg
ORGANIZER;CN="Kinetic Fighting":MAILTO:info@kefgroup.com
END:VEVENT
BEGIN:VEVENT
DTSTART;TZID=Australia/Brisbane:20190330T130000
DTEND;TZID=Australia/Brisbane:20190330T170000
DTSTAMP:20260420T041530
CREATED:20181219T141812Z
LAST-MODIFIED:20181219T141812Z
UID:10746-1553950800-1553965200@kineticfighting.com.au
SUMMARY:KINETIC FIGHTING - LEVEL 1 - ALPHA / BRAVO COURSE - BRISBANE
DESCRIPTION:Learn the close-combat tactics used by Australian and U.S. Special Forces\nA veteran of multiple combat tours with the 2nd Commando Regiment\, former Sergeant Paul Cale literally rewrote the book on Special Forces Close-Quarter Fighting (CQF). Paul then created Infantry Integrated Combat (ICC)\, which later became the foundation for the Australian Army Combatives Program (ACP) — now the official close-combat training system for Australia’s general Army. \nKinetic Fighting is the culmination of all Paul’s work in combatives\, and the name used to describe the method underpinning his military programs. \nWhether you want to learn mental strategies and tactical applications to make your existing martial arts skills more effective\, or you want to take your first steps toward a KEF–IC black belt\, this course is for you. KEF–IC (Kinetic Fighting–Integrated Combat) is a new program within the Australian Army that combines tactical combative skills with free sparring/rolling and the competitive elements of the Integrated Combat Clubs\, which are located at Army barracks Australia-wide. \nAs an extension of the Australian Army Combatives program\, KEF–IC provides the training principles and core syllabus required to give soldiers a survival skill set\, and mindset to match. Every element of KEF–IC is focused toward real combat and it is now being taught to non-military personnel for the first time. \nOn this course Paul will teach you battle-proven principles and survival tactics that are:\n\nAdaptable to any martial art or professional operational procedure\nSuitable for civilians & front-line operators\, from beginners to professionals\nBacked by 25+ years of career military experience & 30+ years in martial arts\n\n\nDay 1 – Level 1-Alpha:\nFour hours of training in essential self-protection skills with Paul Cale\, creator of the Australian Army Combatives Program (ACP). \nIn this module you will cover the key aspects of surviving a violent confrontation: mindset\, tactics\, legal and moral considerations\, and functional\, high-percentage techniques. You will also discover how KEF–IC’s battlefield origins inform everything that you learn. \nPrerequisites: None – complete beginners welcome \nTime: Saturday 30th March 1:00pm – 5:00pm \n  \nDay 2 – Level 1-Bravo: \nBuild on the previous day’s training with four hours of skill integration\, ACP/KEF–IC reflex training and drills to help you develop your Level 1 skills into an effective arsenal. \nIn this module you will be introduced to principles of adaptation and shown how free play and sparring/rolling can enhance tactical capability. Learn grappling skills applicable to the battlefield\, and competitive drills where the objectives support tactical aims and develop your combative skill sets. \nPrerequisites: KEF–IC Level 1-Alpha \nTime: Sunday 31st March 1:00pm – 5:00pm \nDo the first module or both (discounts apply). \n  \nBOOK NOW! – Discounts apply on combined Alpha/Bravo tickets  \nBRING A FRIEND & SAVE – Buy two tickets or organise a group for even bigger savings  \n* If you have previously completed any Kinetic Fighting module and would like to do a refresher\, contact info@kefgroup.com for special pricing. \n 
URL:https://kineticfighting.com.au/event/kinetic-fighting-level-1-alpha-bravo-course-brisbane/
LOCATION:Kodomon Edge Self-Defence\, Cnr Finucane & Windemere Roads\, Alexandra Hills\, QLD\, 4161\, Australia
ATTACH;FMTTYPE=image/jpeg:https://kineticfighting.com.au/wp-content/uploads/2018/12/LEVEL-1-ALPHA-BRAVO-1.jpg
ORGANIZER;CN="Kinetic Fighting":MAILTO:info@kefgroup.com
END:VEVENT
BEGIN:VEVENT
DTSTART;TZID=Australia/Melbourne:20190316T133000
DTEND;TZID=Australia/Melbourne:20190316T173000
DTSTAMP:20260420T041530
CREATED:20181219T141123Z
LAST-MODIFIED:20181219T141123Z
UID:10743-1552743000-1552757400@kineticfighting.com.au
SUMMARY:KINETIC FIGHTING: LEVEL 1-ALPHA/BRAVO COURSE – MELBOURNE
DESCRIPTION:Learn the close-combat tactics used by Australian and U.S. Special Forces\nA veteran of multiple combat tours with the 2nd Commando Regiment\, former Sergeant Paul Cale literally rewrote the book on Special Forces Close-Quarter Fighting (CQF). Paul then created Infantry Integrated Combat (ICC)\, which later became the foundation for the Australian Army Combatives Program (ACP) — now the official close-combat training system for Australia’s general Army. \nKinetic Fighting is the culmination of all Paul’s work in combatives\, and the name used to describe the method underpinning his military programs. \nWhether you want to learn mental strategies and tactical applications to make your existing martial arts skills more effective\, or you want to take your first steps toward a KEF–IC black belt\, this course is for you. KEF–IC (Kinetic Fighting–Integrated Combat) is a new program within the Australian Army that combines tactical combative skills with free sparring/rolling and the competitive elements of the Integrated Combat Clubs\, which are located at Army barracks Australia-wide. \nAs an extension of the Australian Army Combatives program\, KEF–IC provides the training principles and core syllabus required to give soldiers a survival skill set\, and mindset to match. Every element of KEF–IC is focused toward real combat and it is now being taught to non-military personnel for the first time. \nOn this course Paul will teach you battle-proven principles and survival tactics that are:\n\nAdaptable to any martial art or professional operational procedure\nSuitable for civilians & front-line operators\, from beginners to professionals\nBacked by 25+ years of career military experience & 30+ years in martial arts\n\n\nDay 1 – Level 1-Alpha:\nFour hours of training in essential self-protection skills with Paul Cale\, creator of the Australian Army Combatives Program (ACP). \nIn this module you will cover the key aspects of surviving a violent confrontation: mindset\, tactics\, legal and moral considerations\, and functional\, high-percentage techniques. You will also discover how KEF–IC’s battlefield origins inform everything that you learn. \nPrerequisites: None – complete beginners welcome \nTime: Saturday 16th March 1:30am – 5:30pm \n  \nDay 2 – Level 1-Bravo: \nBuild on the previous day’s training with four hours of skill integration\, ACP/KEF–IC reflex training and drills to help you develop your Level 1 skills into an effective arsenal. \nIn this module you will be introduced to principles of adaptation and shown how free play and sparring/rolling can enhance tactical capability. Learn grappling skills applicable to the battlefield\, and competitive drills where the objectives support tactical aims and develop your combative skill sets. \nPrerequisites: KEF–IC Level 1-Alpha \nTime: Sunday 17th March 10:00am – 2:00pm \nDo the first module or both (discounts apply). \n  \nBOOK NOW – Discounts apply for combined Alpha/Bravo tickets  \nBRING A FRIEND & SAVE – Buy two tickets or organise a group for even bigger savings  \n* If you have previously completed any Kinetic Fighting module and would like to do a refresher\, contact info@kefgroup.com for special pricing. \n 
URL:https://kineticfighting.com.au/event/kinetic-fighting-level-1-alpha-bravo-course-melbourne/
LOCATION:Guardian Defence\, 3/3 Joyce Court\, Coburg North\, Melbourne\, Victoria\, 3058\, Australia
ATTACH;FMTTYPE=image/jpeg:https://kineticfighting.com.au/wp-content/uploads/2018/12/LEVEL-1-ALPHA-BRAVO-1.jpg
ORGANIZER;CN="Kinetic Fighting":MAILTO:info@kefgroup.com
END:VEVENT
BEGIN:VEVENT
DTSTART;TZID=Australia/Brisbane:20190302T133000
DTEND;TZID=Australia/Brisbane:20190302T173000
DTSTAMP:20260420T041530
CREATED:20181217T162808Z
LAST-MODIFIED:20181217T162808Z
UID:10724-1551533400-1551547800@kineticfighting.com.au
SUMMARY:KINETIC FIGHTING: LEVEL 1-ALPHA/BRAVO COURSE – SYDNEY
DESCRIPTION:Learn the close-combat tactics used by Australian and U.S. Special Forces\nA veteran of multiple combat tours with the 2nd Commando Regiment\, former Sergeant Paul Cale literally rewrote the book on Special Forces Close-Quarter Fighting (CQF). Paul then created Infantry Integrated Combat (ICC)\, which later became the foundation for the Australian Army Combatives Program (ACP) — now the official close-combat training system for Australia’s general Army. \nKinetic Fighting is the culmination of all Paul’s work in combatives\, and the name used to describe the method underpinning his military programs. \nWhether you want to learn mental strategies and tactical applications to make your existing martial arts skills more effective\, or you want to take your first steps toward a KEF–IC black belt\, this course is for you. KEF–IC (Kinetic Fighting–Integrated Combat) is a new program within the Australian Army that combines tactical combative skills with free sparring/rolling and the competitive elements of the Integrated Combat Clubs\, which are located at Army barracks Australia-wide. \nAs an extension of the Australian Army Combatives program\, KEF–IC provides the training principles and core syllabus required to give soldiers a survival skill set\, and mindset to match. Every element of KEF–IC is focused toward real combat and it is now being taught to non-military personnel for the first time. \nOn this course Paul will teach you battle-proven principles and survival tactics that are:\n\nAdaptable to any martial art or professional operational procedure\nSuitable for civilians & front-line operators\, from beginners to professionals\nBacked by 25+ years of career military experience & 30+ years in martial arts\n\n\nDay 1 – Level 1-Alpha:\nFour hours of training in essential self-protection skills with Paul Cale\, creator of the Australian Army Combatives Program (ACP). \nIn this module you will cover the key aspects of surviving a violent confrontation: mindset\, tactics\, legal and moral considerations\, and functional\, high-percentage techniques. You will also discover how KEF–IC’s battlefield origins inform everything that you learn. \nPrerequisites: None – complete beginners welcome \nTime: Saturday 2nd March 1:30am – 5:30pm \n  \nDay 2 – Level 1-Bravo: \nBuild on the previous day’s training with four hours of skill integration\, ACP/KEF–IC reflex training and drills to help you develop your Level 1 skills into an effective arsenal. \nIn this module you will be introduced to principles of adaptation and shown how free play and sparring/rolling can enhance tactical capability. Learn grappling skills applicable to the battlefield\, and competitive drills where the objectives support tactical aims and develop your combative skill sets. \nPrerequisites: KEF–IC Level 1-Alpha \nTime: Sunday 3rd March 10:00am – 2:00pm \nDo the first module or both (discounts apply). \n  \nBOOK NOW – Discounts apply for combined Alpha/Bravo bookings  \nBRING A FRIEND & SAVE – Buy two tickets or organise a group for even bigger savings  \n* If you have previously completed any Kinetic Fighting module and would like to do a refresher\, contact info@kefgroup.com for special pricing. \n 
URL:https://kineticfighting.com.au/event/kinetic-fighting-level-1-alpha-bravo-course-sydne/
LOCATION:VT1 Mixed Martial Arts Academy\, Unit 19B\, 390 Eastern Valley Way\, Chatswood\, New South Wales\, 2067\, Australia
ATTACH;FMTTYPE=image/jpeg:https://kineticfighting.com.au/wp-content/uploads/2018/12/LEVEL-1-ALPHA-BRAVO-1.jpg
ORGANIZER;CN="Kinetic Fighting":MAILTO:info@kefgroup.com
END:VEVENT
BEGIN:VEVENT
DTSTART;TZID=Australia/Brisbane:20181014T103000
DTEND;TZID=Australia/Brisbane:20181014T143000
DTSTAMP:20260420T041530
CREATED:20180828T121102Z
LAST-MODIFIED:20180828T121102Z
UID:10380-1539513000-1539527400@kineticfighting.com.au
SUMMARY:4 Hours That Will Change Your View Of Self-Protection - Brisbane
DESCRIPTION:Learn the close-combat tactics used by Australian and U.S. Special Forces!\nPaul Cale is a former Special Forces Sergeant with 2 Commando Regiment and is a veteran of multiple combat tours. His Kinetic Fighting method is now the official program of Australia’s elite SF soldiers\, Infantry and general Army. \nOn this course he will teach you battle-proven principles & survival tactics that are:\n\nAdaptable to any martial art or professional operational procedure\nSuitable for civllians & front-line operators\, from beginners to professionals\nBacked by 25+ years of career military experience & 30+ years in martial arts\n\nBook now or contact info@kefgroup.com for more detail. \n\n \nGet Tickets\n \n\nFAQs \nAre there ID or minimum age requirements to enter the event? \nMinimum age 16-17 need parental supervision and consent. \nWhat can I bring into the event? \nWater bottle\, pen and paper\, loose comfortable and durable clothing. \nHow can I contact the organiser with any questions? \nInfo@kefgroup.com \nWhat’s the refund policy? \nAs per Australian consumer law.
URL:https://kineticfighting.com.au/event/4-hours-that-will-change-your-view-of-self-protection-brisbane/
LOCATION:Alexandra Hills Community Hall\, 131-135 Finucane Road\, Alexandra Hills\, Brisbane\, QLD\, 4161
ORGANIZER;CN="Kinetic Fighting":MAILTO:info@kefgroup.com
END:VEVENT
BEGIN:VEVENT
DTSTART;TZID=Australia/Brisbane:20181013T140000
DTEND;TZID=Australia/Brisbane:20181013T180000
DTSTAMP:20260420T041530
CREATED:20180828T121117Z
LAST-MODIFIED:20180828T121117Z
UID:10367-1539439200-1539453600@kineticfighting.com.au
SUMMARY:4 Hours That Will Change Your View Of Self-Protection - Melbourne
DESCRIPTION:Learn the close-combat tactics used by Australian and U.S. Special Forces!\nPaul Cale is a former Special Forces Sergeant with 2 Commando Regiment and is a veteran of multiple combat tours. His Kinetic Fighting method is now the official program of Australia’s elite SF soldiers\, Infantry and general Army. \nOn this course he will teach you battle-proven principles & survival tactics that are:\n\nAdaptable to any martial art or professional operational procedure\nSuitable for civllians & front-line operators\, from beginners to professionals\nBacked by 25+ years of career military experience & 30+ years in martial arts\n\nBook now or contact info@kefgroup.com for more detail. \n\n \nGet Tickets\n \n\nFAQs \nAre there ID or minimum age requirements to enter the event? \nMinimum age 16-17 need parental supervision and consent. \nWhat can I bring into the event? \nWater bottle\, pen and paper\, loose comfortable and durable clothing. \nHow can I contact the organiser with any questions? \nInfo@kefgroup.com \nWhat’s the refund policy? \nAs per Australian consumer law.
URL:https://kineticfighting.com.au/event/4-hours-that-will-change-your-view-of-self-protection-melbourne/
LOCATION:Guardian Defence\, 3/3 Joyce Court\, Coburg North\, Melbourne\, Victoria\, 3058\, Australia
ORGANIZER;CN="Kinetic Fighting":MAILTO:info@kefgroup.com
END:VEVENT
END:VCALENDAR