BEGIN:VCALENDAR
VERSION:2.0
PRODID:-//Kinetic Fighting - ECPv6.8.1//NONSGML v1.0//EN
CALSCALE:GREGORIAN
METHOD:PUBLISH
X-WR-CALNAME:Kinetic Fighting
X-ORIGINAL-URL:https://kineticfighting.com.au
X-WR-CALDESC:Events for Kinetic Fighting
REFRESH-INTERVAL;VALUE=DURATION:PT1H
X-Robots-Tag:noindex
X-PUBLISHED-TTL:PT1H
BEGIN:VTIMEZONE
TZID:Australia/Sydney
BEGIN:STANDARD
TZOFFSETFROM:+1100
TZOFFSETTO:+1000
TZNAME:AEST
DTSTART:20200404T160000
END:STANDARD
BEGIN:DAYLIGHT
TZOFFSETFROM:+1000
TZOFFSETTO:+1100
TZNAME:AEDT
DTSTART:20201003T160000
END:DAYLIGHT
END:VTIMEZONE
BEGIN:VEVENT
DTSTART;TZID=Australia/Sydney:20201010T080000
DTEND;TZID=Australia/Sydney:20201011T200000
DTSTAMP:20260424T153203
CREATED:20200911T185425Z
LAST-MODIFIED:20200911T185425Z
UID:12375-1602316800-1602446400@kineticfighting.com.au
SUMMARY:Land Navigation: Fundamentals
DESCRIPTION:Taught by Australian Special Forces veterans\, this course will give you the essential tools to expand your horizons and come back safe. Land Navigation Fundamentals is a two-day course packed with information and activities\, including practical application of learned skills through navigation exercises. With no prerequisite level of fitness or experience needed\, the course is suited to anyone interested in learning about or improving their skill in land navigation. Don’t be dissuaded if you already have navigation experience\, as the small group format means the content can be tailored to you. Numbers are strictly limited to a maximum of 6 people*\, so book now! \nLand Navigation Fundamentals runs from approximately 8am to 6pm on a Saturday and 6am to 8pm on a Sunday (inclusive of breaks)\, with the general plan for each day as follows: \nDay 1 – Navigation Essentials\nWe cover the fundamentals of navigation theory in the morning\, followed by static navigation in the afternoon. Theory topics include: \n\nMap reading\nBearings/back bearings\nGrid-to-magnetic bearing conversions\nMeasuring distance\nRoute planning and the nav’ data sheet\n\nStatic navigation topics include: \n\nShooting bearings\nRelating the map to the ground\nRe-sections\n\nDay 2 – Applied Fundamentals\nThe second day mainly involves navigating from point to point\, to consolidate the learning of the previous day. This begins with route planning\, covering topics including: \n\nMap appreciation\nPlotting navigation routes\nFilling a nav’ data sheet\n\nThe active navigation exercises that follow include cross-country navigation and applying tips and tricks such as ‘aiming off’. \nLocation & Transport\nPick up and drop off from major transport hubs is included in the ticket price. However\, this does not include airport transfers unless on the same day as the start or finish of the course\, and by prior arrangement. \nExact locations for all activities are to be confirmed closer to the event date\, but will be north and west of Sydney within 2–2.5 hours’ drive of the airport. \nMeals\nA cut lunch is provided for each day\, so please specify any dietary requirements on the personal details form that will be sent to you before the course. Breakfast\, dinner and snacks throughout the day are the responsibility of the individual. \nAccommodation\nThe course is run in locations to the north of Sydney\, so if you’re travelling to attend\, we recommend that you seek accommodation around the North Shore or Northern Beaches area of Sydney. We also recommend obtaining accommodation for the Friday\, Saturday and Sunday nights (note: all accommodation is the responsibility of the individual). \nIf planning to fly in or out on the Saturday or Sunday respectively\, please keep in mind that the course starts at 8am on the Saturday and may not finish until 8pm on the Sunday evening. This does not include up to 2 hours travel time back to Sydney airport. \nEquipment\nWe recommend that you bring the following: \n\nComfortable\, loose-fitting clothing suitable for cross-country hiking\nSturdy\, comfortable\, closed-toe shoes. Worn-in hiking shoes or boots are recommended but sneakers/running shoes will suffice\nHat and sunglasses\nA daypack of at least 15 litres capacity\n2 litres of water\nSnacks as required\nA compass**\nA small notebook and pencil (retractable Pacer-type recommended)\nA Gore-Tex jacket or similar\n\nTopographic maps\, a clipboard and any other supplies required for navigation will be provided. \n \nPLUS\, our early-bird special includes a free tactical pen worth $49.95 and KEF cap worth $35 – CLICK HERE to secure your place! ***\n \n* To organise a private group course\, contact us. \n** For those needing to purchase a compass\, we recommend the Silva Expedition model or\, for military personnel\, the deluxe version. Please advise if you require a loan compass\, as we only have a limited quantity. \n*** Use the code ‘earlybird’ when booking before 1 October 2020
URL:https://kineticfighting.com.au/event/land-navigation-fundamentals-2/
LOCATION:Northern Sydney\, NSW\, Australia
CATEGORIES:Training
ATTACH;FMTTYPE=image/jpeg:https://kineticfighting.com.au/wp-content/uploads/2020/06/Map-compass-vert-crop-1040x575-1-1.jpg
ORGANIZER;CN="Kinetic Fighting":MAILTO:info@kefgroup.com
END:VEVENT
END:VCALENDAR