BEGIN:VCALENDAR
VERSION:2.0
PRODID:-//Kinetic Fighting - ECPv6.8.1//NONSGML v1.0//EN
CALSCALE:GREGORIAN
METHOD:PUBLISH
X-ORIGINAL-URL:https://kineticfighting.com.au
X-WR-CALDESC:Events for Kinetic Fighting
REFRESH-INTERVAL;VALUE=DURATION:PT1H
X-Robots-Tag:noindex
X-PUBLISHED-TTL:PT1H
BEGIN:VTIMEZONE
TZID:Australia/Brisbane
BEGIN:STANDARD
TZOFFSETFROM:+1000
TZOFFSETTO:+1000
TZNAME:AEST
DTSTART:20210101T000000
END:STANDARD
END:VTIMEZONE
BEGIN:VEVENT
DTSTART;TZID=Australia/Brisbane:20210815T090000
DTEND;TZID=Australia/Brisbane:20210815T130000
DTSTAMP:20260423T164925
CREATED:20210525T220806Z
LAST-MODIFIED:20210525T220806Z
UID:12987-1629018000-1629032400@kineticfighting.com.au
SUMMARY:Home Defence & Intruder Response – Brisbane
DESCRIPTION:Learn how to deal physically and psychologically with immediate threats to your home and family. Applicable to protecting yourself and others within a residence\, workplace or school\, this module teaches you professionally tested tactics for survival on multiple levels\, from preparation and avoidance to direct response.\nThis four-hour session (‘Hotel’ module in the KEF–IC syllabus) covers prevention\, resistance\, escape\, signalling neighbours/authorities\, and much more. Starting with understanding the intent and tactics of intruders and trespassers\, you will discover the weak points to exploit in order to achieve the best protection and respond optimally to threats. You’ll also learn how principles applied by Special Forces and counter-terror units apply to civilian environments\, including clearing and defending your space\, and responding to weapons. This includes understanding firearm use\, capability and limitations from both sides of the weapon\, so you can act with maximum effectiveness. \nThe Hotel module will cover: \n\nhome defence and the law\nintruder counter measures\nmoving in low light\nvisual and physical room clearance\nthreat assessment\n‘safe room’ use\nescape and evasion\ndeception plans\ndiscreet first-responder communications\neffective deployment of light\n‘crash’ action planning.\n\n  \nIn this session\, Paul Cale and Kinetic Fighting’s Mission Specialist Instructors will teach you essential principles and tactics that are:\n\nProven by front-line operators and adapted for civilian use\nPrinciple-based and applicable to any interior environment\nBacked by Paul Cale’s 25 years of career military and counter-terror experience and operational application\, and the collective experience and knowledge of our ex-Special Forces instructor team.\n\n  \nBRING A FRIEND & SAVE – Buy two or more tickets  for further discounts \n  \nCOVID-19 policy: In addition to enhanced safety and hygiene protocols\, participants may choose to work with only their own partner for the majority of the seminar. Special discounts also apply to encourage bringing your own training partner (see above).  \n* Run periodically and by affiliate KEF–IC instructors. If you wish to organise a private Alpha course for a group\, contact info@kefgroup.com. \n 
URL:https://kineticfighting.com.au/event/home-defence-intruder-response-brisbane/
LOCATION:KEF High-Fidelity Training Centre\, Screen QLD Studios\, 45 Gosport St\, Hemmant\, Queensland\, 4174\, Australia
CATEGORIES:Training
ATTACH;FMTTYPE=image/jpeg:https://kineticfighting.com.au/wp-content/uploads/2021/05/AdobeStock_100209087-intruder-with-crowbar-torch-1920x1080-72dpi-CU-1.jpg
ORGANIZER;CN="Kinetic Fighting":MAILTO:info@kefgroup.com
END:VEVENT
END:VCALENDAR