BEGIN:VCALENDAR
VERSION:2.0
PRODID:-//Kinetic Fighting - ECPv6.8.1//NONSGML v1.0//EN
CALSCALE:GREGORIAN
METHOD:PUBLISH
X-ORIGINAL-URL:https://kineticfighting.com.au
X-WR-CALDESC:Events for Kinetic Fighting
REFRESH-INTERVAL;VALUE=DURATION:PT1H
X-Robots-Tag:noindex
X-PUBLISHED-TTL:PT1H
BEGIN:VTIMEZONE
TZID:Australia/Brisbane
BEGIN:STANDARD
TZOFFSETFROM:+1000
TZOFFSETTO:+1000
TZNAME:AEST
DTSTART:20220101T000000
END:STANDARD
END:VTIMEZONE
BEGIN:VEVENT
DTSTART;TZID=Australia/Brisbane:20221016T123000
DTEND;TZID=Australia/Brisbane:20221016T163000
DTSTAMP:20260420T162241
CREATED:20220913T192941Z
LAST-MODIFIED:20220913T192941Z
UID:13686-1665923400-1665937800@kineticfighting.com.au
SUMMARY:Combative Grappling – Melbourne
DESCRIPTION:Learn how to out-grapple an opponent when lives are at stake\, rather than competition points\, with Kinetic Fighting founder Paul Cale.\nThe Combative Grappling course teaches the essential tactics and techniques of grappling to overcome a committed assault — and how to adapt your current grappling skills for survival\, as well as law-enforcement or security ROE.  \nIn this four-hour course (the KEF–IC Echo module) you will learn vital strategies and skills to survive life-threatening situations where you end up on the ground\, and/or the assailant attempts to grab\, control and move you. You will also drill ground-fighting responses for when weapons are\, or could be\, in use.   \nThe core skills and drills of this module provide the framework for adapting sport jiu-jitsu skills to combat real violence\, or learning the essentials from scratch. Together\, they develop the following key aspects of grappling for self-protection: \n\n\nTargeting your attacks to stop threats rapidly \n\n\nWeapon awareness\, pre-emptive response and counters \n\n\nClinching with a weapon \n\n\nClassic trips and reaps adapted for real combat \n\n\nSupine (guard) offence and recovery tactics \n\n\nShoulder lock variations and controls for key tactical positions \n\n\nPrerequisites: None — beginners welcome \n  \nYou will also receive a comprehensive training booklet\, along with a certificate and badge (which adheres to KEF–IC training gear) denoting your completion of this module in the Kinetic Fighting system. \n  \nBOOK NOW & SAVE – Tickets discounted from $190 to $170! * \n  \n* Book before 11:59pm\, 30 September 2022. Book together with the ‘Tactical Control & Arrest for Policing’ seminar for a $40 discount (serving police\, PSOs and corrections officers only).
URL:https://kineticfighting.com.au/event/combative-grappling-melbourne-oct22/
LOCATION:Guardian Defence\, 3/3 Joyce Court\, Coburg North\, Melbourne\, Victoria\, 3058\, Australia
CATEGORIES:Training
ATTACH;FMTTYPE=image/jpeg:https://kineticfighting.com.au/wp-content/uploads/2021/01/Civilian-Police-Military-training-2-1920x1080-72dpi-1.jpg
ORGANIZER;CN="Kinetic Fighting":MAILTO:info@kefgroup.com
END:VEVENT
BEGIN:VEVENT
DTSTART;TZID=Australia/Brisbane:20221022T150000
DTEND;TZID=Australia/Brisbane:20221022T190000
DTSTAMP:20260420T162241
CREATED:20220922T133007Z
LAST-MODIFIED:20220922T133007Z
UID:13709-1666450800-1666465200@kineticfighting.com.au
SUMMARY:Weapon Survival Essentials – Melbourne
DESCRIPTION:Learn how to apply the principles of Kinetic Fighting–Integrated Combat to control your fear and protect against common street weapons.\nThis course (Charlie module in the KEF–IC syllabus) was developed by Army Combatives Program creator Paul Cale. In it you will discover the essential components of surviving an armed attack\, but also how to arm yourself — legally — for the purpose. A mix of theory and practice\, these lessons will help you hone fundamental skill sets (including those learned in our Self-Protection Essentials course\, if you’ve done it) and integrate Kinetic Fighting’s core principles and survival strategies into your thinking as well as your actions. \nIn this module you will develop a working knowledge of the following key aspects of self-protection: \n\nWeapon awareness and detection\nWeapon characteristics and vulnerabilities to exploit\nDistancing concepts specific to weapons\nWeapon suppression and control methods \nLegal considerations for possession and use of self-protection tools \nImprovisation and effective use of legal tools for defence.\n\nYou will also receive a comprehensive training booklet for each module\, along with a certificate and badge (which adheres to KEF–IC training gear) denoting your completion of these modules in the Kinetic Fighting system. \nPrerequisites: None — beginners welcome* \n  \nBOOK NOW & SAVE \n  \n* Do the Charlie and Delta modules together. If you have already completed Charlie or Delta — previously known as Level 2-Alpha and Level 2-Bravo — and would like to do a refresher\, book a ‘Refresh Attendee’ ticket for only $50! (Note: no course book is provided and proof of previous course completion is required.)
URL:https://kineticfighting.com.au/event/weapon-survival-essentials-melbourne-oct22/
LOCATION:Guardian Defence\, 3/3 Joyce Court\, Coburg North\, Melbourne\, Victoria\, 3058\, Australia
CATEGORIES:Training
ATTACH;FMTTYPE=image/jpeg:https://kineticfighting.com.au/wp-content/uploads/2020/12/Melb-Seminar-13-Paul-Knife-1920x1080-1-1.jpg
ORGANIZER;CN="Guardian Defence":MAILTO:enquiries@guardiandefence.com
END:VEVENT
BEGIN:VEVENT
DTSTART;TZID=Australia/Brisbane:20221023T093000
DTEND;TZID=Australia/Brisbane:20221023T133000
DTSTAMP:20260420T162241
CREATED:20220922T132629Z
LAST-MODIFIED:20220922T132629Z
UID:13712-1666517400-1666531800@kineticfighting.com.au
SUMMARY:Weapon Response Framework – Melbourne
DESCRIPTION:Develop your Kinetic Fighting–Integrated Combat skill sets and overall defensive capability with this follow-up to Paul Cale’s essential weapons-training course\, the KEF–IC Charlie module.\nIn this course (the KEF–IC Delta module)\, your instructor will take you through a series of drills and scenarios designed by Kinetic Fighting founder and former Commando SGT Paul Cale to heighten your awareness and quickly develop your ability to respond to bladed and blunt weapons. In four hours on the mats\, you will grow your arsenal of effective counter options and expand your understanding of survival tactics when it comes to weapon threats and attacks. \nIn this module you will develop a working knowledge of the following key aspects of self-protection: \n\nRecognising and dealing with combat stress and fear\nAwareness of capability\, and working within it\nIntercepting/capturing a weapon regardless of angle \nSimple and direct takedown methods \nHow to use walls and objects offensively and defensively\nAssisting another party during an assault\n\nYou will also receive a comprehensive training booklet for each module\, along with a certificate and badge (which adheres to KEF–IC training gear) denoting your completion of these modules in the Kinetic Fighting system. \nPrerequisite: KEF–IC Charlie* \n  \nBOOK NOW & SAVE \n  \n* Do the Charlie and Delta modules together. If you have already completed Charlie or Delta — previously known as Level 2-Alpha and Level 2-Bravo — and would like to do a refresher\, book a ‘Refresh Attendee’ ticket for only $50! (Note: no course book is provided and proof of previous course completion is required.)
URL:https://kineticfighting.com.au/event/weapon-response-framework-melbourne-oct22/
LOCATION:Guardian Defence\, 3/3 Joyce Court\, Coburg North\, Melbourne\, Victoria\, 3058\, Australia
CATEGORIES:Training
ATTACH;FMTTYPE=image/png:https://kineticfighting.com.au/wp-content/uploads/2019/12/DSC00489-R-copy-Screen-Shot-e1592309314814-1.png
ORGANIZER;CN="Guardian Defence":MAILTO:enquiries@guardiandefence.com
END:VEVENT
END:VCALENDAR