BEGIN:VCALENDAR
VERSION:2.0
PRODID:-//Kinetic Fighting - ECPv6.8.1//NONSGML v1.0//EN
CALSCALE:GREGORIAN
METHOD:PUBLISH
X-WR-CALNAME:Kinetic Fighting
X-ORIGINAL-URL:https://kineticfighting.com.au
X-WR-CALDESC:Events for Kinetic Fighting
REFRESH-INTERVAL;VALUE=DURATION:PT1H
X-Robots-Tag:noindex
X-PUBLISHED-TTL:PT1H
BEGIN:VTIMEZONE
TZID:Australia/Brisbane
BEGIN:STANDARD
TZOFFSETFROM:+1000
TZOFFSETTO:+1000
TZNAME:AEST
DTSTART:20220101T000000
END:STANDARD
TZID:Australia/Melbourne
BEGIN:STANDARD
TZOFFSETFROM:+1100
TZOFFSETTO:+1000
TZNAME:AEST
DTSTART:20220402T160000
END:STANDARD
BEGIN:DAYLIGHT
TZOFFSETFROM:+1000
TZOFFSETTO:+1100
TZNAME:AEDT
DTSTART:20221001T160000
END:DAYLIGHT
END:VTIMEZONE
BEGIN:VEVENT
DTSTART;TZID=Australia/Brisbane:20221203T130000
DTEND;TZID=Australia/Brisbane:20221203T170000
DTSTAMP:20260420T130442
CREATED:20221104T174811Z
LAST-MODIFIED:20221104T174811Z
UID:13748-1670072400-1670086800@kineticfighting.com.au
SUMMARY:Self-Protection Essentials – Sydney
DESCRIPTION:Train in Paul Cale’s world-leading close-combat program used by Australian Special Forces & Army\, tailored for everyday self-protection.\n\n\n\nThe Personal Combatives courses in the KEF–IC syllabus use the same principles and core techniques as the Australian Army Combatives Program (ACP). The difference? You learn only what’s applicable to tackling violence as a civilian. Battlefield rules of engagement are replaced with the laws of self-defence\, and a soldier’s weapon systems are replaced with your body\, and whatever you can legally carry or find at hand. But the mindset remains the same.   \nA veteran of multiple combat tours with the 2nd Commando Regiment\, former Sergeant Paul Cale literally rewrote the book on Special Forces Close-Quarter Fighting (CQF). He then created Infantry Integrated Combat (ICC)\, which later became the foundation for ACP — now the official close-combat training system for Australia’s general Army. \nKinetic Fighting is the culmination of all Cale’s work in combatives\, and the name used to describe the method underpinning his military programs. Whether you want to learn mental strategies and tactical applications to make your existing martial arts skills more effective\, or you need to build effective self-protection skills from the ground up\, this course is for you. \nYou may even want to take your first steps toward a KEF–IC black belt. KEF–IC (Kinetic Fighting–Integrated Combat) is a new program within the Australian Army that combines tactical combative skills with free sparring/rolling and the competitive elements of the Integrated Combat Clubs\, which are located at Army barracks Australia-wide. As an extension of ACP\, KEF–IC provides the training principles and core syllabus required to give soldiers a survival skill set\, and mindset to match. Every element of KEF–IC is focused toward real combat and was taught to non-military personnel for the first time in 2019. \nOn this course\, Combatives Master Trainer and former Commando Clancy Roberts will teach Paul Cale’s battle-proven principles and survival tactics\, which are:\n\nAdaptable to any martial art or professional operational procedure\nSuitable for civilians & front-line operators\, from beginners to professionals\nBacked by Paul Cale’s 25+ years of career military experience & 40 years in martial arts\, as well as Clancy’s own extensive qualifications.\n\n\nCOURSE DETAILS:\n\n\nIn this module (known as ‘Alpha’ in the KEF–IC syllabus)\, you will cover the key aspects of surviving — and preventing — violent confrontation: mindset\, tactics\, legal and moral considerations\, and functional\, high-percentage techniques. You will also discover how KEF–IC’s battlefield origins inform everything that you learn\, and how to adapt its proven principles to your own abilities and existing skill-sets (if applicable). \nPrerequisites: None – complete beginners welcome* \n\n  \n\n\nBOOK NOW & SAVE – Early-birds get a free KEF–IC cap!* \nBRING A FRIEND & SAVE – Get a second ticket for 50% off ** \n  \n\n* Book before 11:59pm on 27 November.  \n** Book two spots for Alpha and Bravo modules\, and pay only 50% for the second ticket. (If you have previously completed the course and would like to do a refresher\, contact us  for special pricing.)
URL:https://kineticfighting.com.au/event/self-protection-essentials-sydney-dec22/
LOCATION:Training Grounds\, Crowsnest\, 382 Pacific Highway\, Crows Nest\, New South Wales\, 2065\, Australia
CATEGORIES:Training
ATTACH;FMTTYPE=image/jpeg:https://kineticfighting.com.au/wp-content/uploads/2020/07/Melb-Seminar-76-web-course-crop-2320x1210-Screen-Shot-copy-1.jpg
ORGANIZER;CN="Kinetic Fighting":MAILTO:info@kefgroup.com
END:VEVENT
BEGIN:VEVENT
DTSTART;TZID=Australia/Brisbane:20221211T130000
DTEND;TZID=Australia/Brisbane:20221211T170000
DTSTAMP:20260420T130442
CREATED:20221104T102351Z
LAST-MODIFIED:20221104T102351Z
UID:13738-1670763600-1670778000@kineticfighting.com.au
SUMMARY:Violence Prevention Essentials – Melbourne
DESCRIPTION:Learn how to prevent violence before it happens\, using proven behavioural analysis and threat-detection methods. Behavioural intelligence expert Mathew Wann — author of Predicting Violence: How to Interpret Nonverbal Cues — will teach you how to become a ‘hard target’ in any environment. \nWith over 15 years of experience in nonverbal communication and behavioural analytics for Defence\, Mathew Wann is a specialist in his field. As an instructor of front-line professionals\, he gives first-responders and career combatants the tools to understand social and physical precursors to violence\, as well as the dynamics of this ‘most primal human disorder’. As a coach and mentor\, Mathew has also helped athletes and coaches to gain a competitive advantage in their sport by interpreting unspoken signals. \nThese ‘soft skills’ are the most important in any self-defence repertoire\, regardless of the environment — after all\, you can’t lose a battle you don’t have! Unfortunately\, they are also the most neglected and rarely taught skills in the self-defence and security fields. So\, Kinetic Fighting has now developed this expanded and publicly accessible version of its ‘Red Flags to Violence’ training module delivered to military and police. \nIn this session and its follow-up module\, Dynamic Threat Management\, KEF Mission Specialist Instructor Mathew Wann will teach you essential principles and tactics that are:\n\nSuitable for civilians but proven by front-line operators\nAdaptable to any social or professional environment\nBacked by Mathew’s many years of career military experience and professional application.\n\nYou will also receive a FREE copy of the e-book Predicting Violence: How to Interpret Nonverbal Cues.** \n  \nIn this module (‘Foxtrot’ in the KEF–IC syllabus)\, you will be taught the levels of situation awareness and how to apply them in everyday life. This includes theoretical and practical applications of active observation and dynamic scanning of an environment. You’ll then discover the four main motives that drive violent attacks\, along with how these motives relate to violent attack (this information is vital in dynamic threat assessments\, as it provides an insight into the mind of a potential attacker). \nNext\, you’ll be introduced to the nonverbal behaviours that typically precede acts of interpersonal violence. This is followed by the basic principles of immediate threat assessment\, which complements and supports the applied combat-mindset principles taught in other KEF–IC modules such as Self-Protection Essentials (Alpha). \nThrough the Foxtrot module\, you will develop: \n\nsituational awareness skills\nconfidence in observing and monitoring threat environments\nan understanding of motivations for violence\nthe ability to rapidly detect potential threats\ntechniques to accurately analyse nonverbal behaviour.\n\nPrerequisites: None — beginners welcome \n  \nBOOK NOW – Early-bird special includes a FREE KEF–IC cap worth $28!** \nBRING A FRIEND & SAVE – Get a second ticket for 50% off! \n  \n* Book offer applies to full-course tickets only; book the Foxtrot and Golf modules together\, and receive an additional discount.  \n** Book before 11:59pm on 1 December to receive your free KEF–IC cap.
URL:https://kineticfighting.com.au/event/violence-prevention-essentials-melbourne-dec22/
LOCATION:Sargood Barracks\, Melbourne\, St Kilda Artillery Orderly Room and Drill Hall\, 6 Chapel Street\, St Kilda\, Vic.\, 3182\, Australia
CATEGORIES:Training
ATTACH;FMTTYPE=image/jpeg:https://kineticfighting.com.au/wp-content/uploads/2021/05/AdobeStock_397097525-Man-argues-with-woman-1920x1080-72dpi-1.jpg
ORGANIZER;CN="Kinetic Fighting":MAILTO:info@kefgroup.com
END:VEVENT
BEGIN:VEVENT
DTSTART;TZID=Australia/Melbourne:20221211T173000
DTEND;TZID=Australia/Melbourne:20221211T200000
DTSTAMP:20260420T130442
CREATED:20221104T102132Z
LAST-MODIFIED:20221104T102132Z
UID:13743-1670779800-1670788800@kineticfighting.com.au
SUMMARY:Dynamic Threat Management – Melbourne
DESCRIPTION:Learn how to apply behavioural analysis and situational awareness to manage threats in dynamic environments. Take your violence-prevention skills to the next level with behavioural intelligence expert Mathew Wann\, author of Predicting Violence: How to Interpret Nonverbal Cues.\nThis session (the KEF–IC ‘Golf’ module) builds upon the lessons of Foxtrot\, teaching you how to use nonverbal analysis while operating in a threat environment. You will increase your knowledge of key nonverbal indicators of violence/aggression\, and learn to contextualise those behaviours to shared environments such as cafés\, bars\, train stations and carparks. The module also teaches the fundamentals of ‘baselining’ threats (vital for effective threat analysis) and introduces rapid profiling in dynamic environments. This includes analysing examples in a classroom environment\, then applying these skills in practical\, scenario-based drills. The lessons culminate in a high-fidelity simulation exercise\, enabling you to put your training into action. \nThrough the Golf module\, you will develop: \n\nconfidence in avoiding violent attack by ‘base-lining’ and profiling potential threats\ntechniques that reduce the likelihood of becoming a victim\nversatile conflict-management skills\nthe ability to operate in environments where multiple threats exist\na stronger ‘combat mindset’ and ability to reduce stress reactions \nconfidence in using nonverbal analysis in high-stress environments.\n\nYour instructor will also field questions and troubleshoot\, helping you to work through any issues you’re having in understanding and applying the principles and tactics. You will also receive a FREE copy of his e-book\, Predicting Violence: How to Interpret Nonverbal Cues. \nPrerequisite: KEF–IC Foxtrot* \n  \nBOOK NOW & SAVE – Early-bird special includes a FREE KEF–IC cap worth $28!** \nBRING A FRIEND & SAVE – Get a second ticket for 50% off! \n  \nTHE INSTRUCTOR:\nThis training in essential\, real-world self-protection skills will be delivered by KEF Mission Specialist Instructor (MSI) Mathew Wann. As an instructor of front-line professionals\, Mathew gives first-responders and career combatants the tools to understand social and physical precursors to violence\, as well as the dynamics of this ‘most primal human disorder’. As a coach and mentor\, Mathew has also helped athletes and coaches to gain a competitive advantage in their sport by interpreting unspoken signals. \n  \n* Do the Foxtrot and Golf modules together for a discount. (Or\, if you wish to organise a private seminar for a professional group\, contact info@kefgroup.com.) \n** Use the code ‘earlybird’ and book before 11:59pm on 1 December to get your free cap. \n 
URL:https://kineticfighting.com.au/event/dynamic-threat-management-melbourne-dec22/
LOCATION:Sargood Barracks\, Melbourne\, St Kilda Artillery Orderly Room and Drill Hall\, 6 Chapel Street\, St Kilda\, Vic.\, 3182\, Australia
CATEGORIES:Training
ATTACH;FMTTYPE=image/jpeg:https://kineticfighting.com.au/wp-content/uploads/2021/03/AdobeStock_110828124-knife-in-public-1920x1080-72dpi-1.jpg
ORGANIZER;CN="Kinetic Fighting":MAILTO:info@kefgroup.com
END:VEVENT
END:VCALENDAR