BEGIN:VCALENDAR
VERSION:2.0
PRODID:-//Kinetic Fighting - ECPv6.8.1//NONSGML v1.0//EN
CALSCALE:GREGORIAN
METHOD:PUBLISH
X-WR-CALNAME:Kinetic Fighting
X-ORIGINAL-URL:https://kineticfighting.com.au
X-WR-CALDESC:Events for Kinetic Fighting
REFRESH-INTERVAL;VALUE=DURATION:PT1H
X-Robots-Tag:noindex
X-PUBLISHED-TTL:PT1H
BEGIN:VTIMEZONE
TZID:Australia/Brisbane
BEGIN:STANDARD
TZOFFSETFROM:+1000
TZOFFSETTO:+1000
TZNAME:AEST
DTSTART:20230101T000000
END:STANDARD
END:VTIMEZONE
BEGIN:VEVENT
DTSTART;TZID=Australia/Brisbane:20230415T083000
DTEND;TZID=Australia/Brisbane:20230415T123000
DTSTAMP:20260420T071331
CREATED:20230302T164512Z
LAST-MODIFIED:20230302T164512Z
UID:13812-1681547400-1681561800@kineticfighting.com.au
SUMMARY:Self-Protection Essentials – Gold Coast
DESCRIPTION:Train in Paul Cale’s world-leading close-combat program used by Australian Special Forces & Army\, tailored for everyday self-protection.\n\n\n\nThe Personal Combatives courses in the KEF–IC syllabus use the same principles and core techniques as the Australian Army Combatives Program (ACP). The difference? You learn only what’s applicable to tackling violence as a civilian. Battlefield rules of engagement are replaced with the laws of self-defence\, and a soldier’s weapon systems are replaced with your body\, and whatever you can legally carry or find at hand. But the mindset remains the same.   \nA veteran of multiple combat tours with the 2nd Commando Regiment\, former Sergeant Paul Cale literally rewrote the book on Special Forces Close-Quarter Fighting (CQF). He then created Infantry Integrated Combat (ICC)\, which later became the foundation for ACP — now the official close-combat training system for Australia’s general Army. \nKinetic Fighting is the culmination of all Cale’s work in combatives\, and the name used to describe the method underpinning his military programs. Whether you want to learn mental strategies and tactical applications to make your existing martial arts skills more effective\, or you need to build effective self-protection skills from the ground up\, this course is for you. \nYou may even want to take your first steps toward a KEF–IC black belt. KEF–IC (Kinetic Fighting–Integrated Combat) is a new program within the Australian Army that combines tactical combative skills with free sparring/rolling and the competitive elements of the Integrated Combat Clubs\, which are located at Army barracks Australia-wide. As an extension of ACP\, KEF–IC provides the training principles and core syllabus required to give soldiers a survival skill set\, and mindset to match. Every element of KEF–IC is focused toward real combat and was taught to non-military personnel for the first time in 2019. \nON THIS COURSE\, KEF–IC INSTRUCTOR JOHN TREBILCO WILL TEACH CALE’S BATTLE-PROVEN PRINCIPLES AND SURVIVAL TACTICS\, WHICH ARE:\n\nAdaptable to any martial art or professional operational procedure\nSuitable for civilians & front-line operators\, from beginners to professionals\nBacked by Paul Cale’s 25+ years of career military experience & 40 years in martial arts\, as well as John’s own extensive experience and qualifications. \n\n\nCOURSE DETAILS:\n\n\nIn this module (known as Alpha in the KEF–IC syllabus)\, you will cover the key aspects of surviving — and preventing — violent confrontation: mindset\, tactics\, legal and moral considerations\, and functional\, high-percentage techniques. You will also discover how KEF–IC’s battlefield origins inform everything that you learn\, and how to adapt its proven principles to your own abilities and existing skill-sets (if applicable). \nPrerequisites: None – complete beginners welcome* \n  \nBOOK NOW
URL:https://kineticfighting.com.au/event/self-protection-essentials-gold-coast-apr23/
LOCATION:Southern Cross Self-Defence Gold Coast\, Mudgeeraba Showgrounds (Helen Ripper Pavilion)\, Worongary Rd\, Worongary\, Queensland\, 4213\, Australia
CATEGORIES:Training
ATTACH;FMTTYPE=image/jpeg:https://kineticfighting.com.au/wp-content/uploads/2020/07/Melb-Seminar-76-web-course-crop-2320x1210-Screen-Shot-copy-1.jpg
ORGANIZER;CN="Southern Cross Self-Defence %E2%80%93 Gold Coast":MAILTO:admin@southerncrossgc.com.au
END:VEVENT
BEGIN:VEVENT
DTSTART;TZID=Australia/Brisbane:20230415T130000
DTEND;TZID=Australia/Brisbane:20230415T170000
DTSTAMP:20260420T071331
CREATED:20230303T100803Z
LAST-MODIFIED:20230303T100803Z
UID:13814-1681563600-1681578000@kineticfighting.com.au
SUMMARY:Survivability Blueprint – Gold Coast
DESCRIPTION:Army Combatives Program creator Paul Cale’s course delivers the blueprint for training your Kinetic Fighting skills into the future: Hone the fundamental techniques and tactics in this highly interactive and practical session. \n\n\n\nThis course (a.k.a. Bravo module in the KEF–IC syllabus) will build on your Self-Protection Essentials (Alpha module) training with four hours of skill integration\, reflex training and drills to help you develop your fundamental skills into an effective arsenal. \n\n\nIn this module you will be introduced to principles of adaptation and shown how free play and sparring/rolling can enhance tactical capability. Learn grappling skills applicable to real combat (tried and tested by former Commando SGT Paul Cale and his fellow Special Forces soldiers on the battlefield)\, and work on competitive drills where the objectives support tactical aims and develop your combative skill sets. This session provides the framework for your ongoing refinement and development of all the self-protection skills and strategies learned. \nYou will also receive a comprehensive training booklet for each module\, along with a certificate and badge (which adheres to KEF–IC training gear) denoting your completion of these modules in the Kinetic Fighting system. \nPrerequisites: Self-Protection Essentials (KEF–IC Alpha)* \n  \n\nBOOK NOW\n  \nThe Instructor: \nThis training in essential\, real-world self-protection skills will be delivered by KEF–IC Instructor John Trebilco\, long-time martial arts instructor and owner of Southern Cross Self-Defence\, Gold Coast. \n\n  \n* Book Bravo module together with Alpha for a discount. (If you have previously completed the Alpha course and would like to do a refresher\, contact admin@southerncrossgc.com.au for special pricing.)
URL:https://kineticfighting.com.au/event/survivability-blueprint-gold-coast/
LOCATION:Southern Cross Self-Defence Gold Coast\, Mudgeeraba Showgrounds (Helen Ripper Pavilion)\, Worongary Rd\, Worongary\, Queensland\, 4213\, Australia
CATEGORIES:Training
ATTACH;FMTTYPE=image/jpeg:https://kineticfighting.com.au/wp-content/uploads/2020/07/IMG_3878-scaled-e1594108353212-1.jpeg
ORGANIZER;CN="Southern Cross Self-Defence %E2%80%93 Gold Coast":MAILTO:admin@southerncrossgc.com.au
END:VEVENT
END:VCALENDAR