BEGIN:VCALENDAR
VERSION:2.0
PRODID:-//Kinetic Fighting - ECPv6.8.1//NONSGML v1.0//EN
CALSCALE:GREGORIAN
METHOD:PUBLISH
X-ORIGINAL-URL:https://kineticfighting.com.au
X-WR-CALDESC:Events for Kinetic Fighting
REFRESH-INTERVAL;VALUE=DURATION:PT1H
X-Robots-Tag:noindex
X-PUBLISHED-TTL:PT1H
BEGIN:VTIMEZONE
TZID:Australia/Brisbane
BEGIN:STANDARD
TZOFFSETFROM:+1000
TZOFFSETTO:+1000
TZNAME:AEST
DTSTART:20230101T000000
END:STANDARD
END:VTIMEZONE
BEGIN:VEVENT
DTSTART;TZID=Australia/Brisbane:20230702T093000
DTEND;TZID=Australia/Brisbane:20230702T133000
DTSTAMP:20260420T040103
CREATED:20230406T093219Z
LAST-MODIFIED:20230406T093219Z
UID:13863-1688290200-1688304600@kineticfighting.com.au
SUMMARY:Survivability Blueprint – Melbourne
DESCRIPTION:Army Combatives Program creator Paul Cale’s course delivers the blueprint for training your Kinetic Fighting skills into the future: Hone the fundamental techniques and tactics in this highly interactive and practical session. \n\n\n\nThis course (a.k.a. Bravo module in the KEF–IC syllabus) will build on your Self-Protection Essentials (Alpha module) training with four hours of skill integration\, reflex training and drills to help you develop your fundamental skills into an effective arsenal. \n\n\nIn this module you will be introduced to principles of adaptation and shown how free play and sparring/rolling can enhance tactical capability. Learn grappling skills applicable to real combat (tried and tested by former Commando SGT Paul Cale and his fellow Special Forces soldiers on the battlefield)\, and work on competitive drills where the objectives support tactical aims and develop your combative skill sets. This session provides the framework for your ongoing refinement and development of all the self-protection skills and strategies learned. \nYou will also receive a comprehensive training booklet for each module\, along with a certificate and badge (which adheres to KEF–IC training gear) denoting your completion of these modules in the Kinetic Fighting system. \nPrerequisites: Self-Protection Essentials (KEF–IC Alpha)* \n\n\n  \nBOOK NOW ONLINE! \n  \n\n\nTHE INSTRUCTOR:\nThis training in essential\, real-world self-protection skills will be delivered by KEF–IC Instructor AJ Kearns. A qualified Personal Trainer\, AJ has more than 20 years’ experience in self-protection and martial arts training\, and 17 years in instructing. \n  \n* (If you have previously completed either module and would like to do a refresher\, book a ‘Refresh Attendee’ ticket for only $50! (Note: no course book is provided and proof of previous course completion is required.)
URL:https://kineticfighting.com.au/event/survivability-blueprint-melb-july23/
LOCATION:Guardian Defence\, 3/3 Joyce Court\, Coburg North\, Melbourne\, Victoria\, 3058\, Australia
CATEGORIES:Training
ATTACH;FMTTYPE=image/jpeg:https://kineticfighting.com.au/wp-content/uploads/2020/01/Adelaide-Level-1-Alpha-1.jpg
ORGANIZER;CN="Guardian Defence":MAILTO:enquiries@guardiandefence.com
END:VEVENT
END:VCALENDAR