BEGIN:VCALENDAR
VERSION:2.0
PRODID:-//Kinetic Fighting - ECPv6.8.1//NONSGML v1.0//EN
CALSCALE:GREGORIAN
METHOD:PUBLISH
X-ORIGINAL-URL:https://kineticfighting.com.au
X-WR-CALDESC:Events for Kinetic Fighting
REFRESH-INTERVAL;VALUE=DURATION:PT1H
X-Robots-Tag:noindex
X-PUBLISHED-TTL:PT1H
BEGIN:VTIMEZONE
TZID:Australia/Brisbane
BEGIN:STANDARD
TZOFFSETFROM:+1000
TZOFFSETTO:+1000
TZNAME:AEST
DTSTART:20230101T000000
END:STANDARD
END:VTIMEZONE
BEGIN:VEVENT
DTSTART;TZID=Australia/Brisbane:20230714T180000
DTEND;TZID=Australia/Brisbane:20230714T220000
DTSTAMP:20260420T035426
CREATED:20230411T162520Z
LAST-MODIFIED:20230411T162520Z
UID:13882-1689357600-1689372000@kineticfighting.com.au
SUMMARY:Self-Protection Essentials – Goulburn
DESCRIPTION:Train in Paul Cale’s world-leading close-combat program used by Australian Special Forces & Army\, tailored for everyday self-protection.\n\n\n\nThe Personal Combatives courses in the KEF–IC syllabus use the same principles and core techniques as the Australian Army Combatives Program (ACP). The difference? You learn only what’s applicable to tackling violence as a civilian. Battlefield rules of engagement are replaced with the laws of self-defence\, and a soldier’s weapon systems are replaced with your body\, and whatever you can legally carry or find at hand. But the mindset remains the same.   \nA veteran of multiple combat tours with the 2nd Commando Regiment\, former Sergeant Paul Cale literally rewrote the book on Special Forces Close-Quarter Fighting (CQF). He then created Infantry Integrated Combat (ICC)\, which later became the foundation for ACP — now the official close-combat training system for Australia’s general Army. \nKinetic Fighting is the culmination of all Cale’s work in combatives\, and the name used to describe the method underpinning his military programs. Whether you want to learn mental strategies and tactical applications to make your existing martial arts skills more effective\, or you need to build effective self-protection skills from the ground up\, this course is for you. \nYou may even want to take your first steps toward a KEF–IC black belt. KEF–IC (Kinetic Fighting–Integrated Combat) is a new program within the Australian Army that combines tactical combative skills with free sparring/rolling and the competitive elements of the Integrated Combat Clubs\, which are located at Army barracks Australia-wide. As an extension of ACP\, KEF–IC provides the training principles and core syllabus required to give soldiers a survival skill set\, and mindset to match. Every element of KEF–IC is focused toward real combat and was taught to non-military personnel for the first time in 2019. \n\n\nOn this course\, Paul Cale will teach his battle-proven principles and survival tactics\, which are: \n\nAdaptable to any martial art or professional operational procedure\nSuitable for civilians & front-line operators\, from beginners to professionals\nBacked by Paul Cale’s 25+ years of career military experience & 40+ years in martial arts. \n\n\nCOURSE DETAILS:\n\n\nIn this module (known as Alpha module in the KEF–IC syllabus)\, you will cover the key aspects of surviving — and preventing — violent confrontation: mindset\, tactics\, legal and moral considerations\, and functional\, high-percentage techniques. You will also discover how KEF–IC’s battlefield origins inform everything that you learn\, and how to adapt its proven principles to your own abilities and existing skill-sets (if applicable). \nPrerequisites: None – complete beginners welcome * \n  \n\n\nBOOK NOW & SAVE – Earlybird special: Save $20 & get a FREE KEF–IC cap! **  \nBRING A FRIEND & SAVE – Buy two or more tickets for even bigger savings \n  \n\n\n\n* Do the Alpha and Bravomodules together for a discount. (If you have previously completed the course and would like to do a refresher\, contact info@kefgroup.com for special pricing.) \n** Use the code ‘earlybird’ when booking; special ends at 11:59pm on 14 June. \n 
URL:https://kineticfighting.com.au/event/self-protection-essentials-goulburn-july23/
LOCATION:Goulburn Martial Arts Academy\, 4/135 Finlay Road\, Goulburn\, NSW\, 2580\, Australia
CATEGORIES:Training
ATTACH;FMTTYPE=image/jpeg:https://kineticfighting.com.au/wp-content/uploads/2020/07/Melb-Seminar-76-web-course-crop-2320x1210-Screen-Shot-copy-1.jpg
ORGANIZER;CN="Kinetic Fighting":MAILTO:info@kefgroup.com
END:VEVENT
END:VCALENDAR